View In:
ArcGIS JavaScript
ArcGIS Online Map Viewer
ArcGIS Earth
ArcMap
View Footprint In:
ArcGIS Online Map Viewer
Service Description: IMAGERY_STATEWIDE/NG911_Imagery_2021
Name: IMAGERY_STATEWIDE/NG911_Imagery_2021
Description:
Single Fused Map Cache: false
Extent:
XMin: -1.13621589984E7
YMin: 4429860.683228931
XMax: -1.0526061360604726E7
YMax: 4875596.2179000005
Spatial Reference: 102100
(3857)
Initial Extent:
XMin: -1.13621589984E7
YMin: 4429860.683228931
XMax: -1.0526061360604726E7
YMax: 4875596.2179000005
Spatial Reference: 102100
(3857)
Full Extent:
XMin: -1.13621589984E7
YMin: 4429860.683228931
XMax: -1.0526061360604726E7
YMax: 4875596.2179000005
Spatial Reference: 102100
(3857)
Time Info:
Start Time Field: Year
End Time Field: null
Time Extent:
[2021/01/01 00:00:00 UTC, 2021/01/01 00:00:00 UTC]
Time Reference:
N/A
Pixel Size X: 0.304800609601219
Pixel Size Y: 0.3048006096012191
Band Count: 3
Pixel Type: U8
RasterFunction Infos: {"rasterFunctionInfos": [{
"name": "None",
"description": "A No-Op Function.",
"help": ""
}]}
Mensuration Capabilities: None
Has Histograms: true
Has Colormap: false
Has Multi Dimensions : false
Rendering Rule:
Min Scale: 0
Max Scale: 0
Copyright Text:
Service Data Type: esriImageServiceDataTypeRGB
Min Values: 6, 15, 13
Max Values: 220, 222, 233
Mean Values: 126.30268670829311, 118.00316784590558, 100.60666032214657
Standard Deviation Values: 24.78209960722831, 20.484460702499582, 19.028292653152295
Object ID Field: OBJECTID
Fields:
-
OBJECTID
(
type: esriFieldTypeOID, alias: OBJECTID
)
-
Shape
(
type: esriFieldTypeGeometry, alias: Shape
)
-
Name
(
type: esriFieldTypeString, alias: Name, length: 200
)
-
Category
(
type: esriFieldTypeInteger, alias: Category
, Coded Values:
[0: Unknown]
, [1: Primary]
, [2: Overview]
, ...6 more...
)
-
YEAR
(
type: esriFieldTypeString, alias: YEAR, length: 50
)
Default Mosaic Method: Northwest
Allowed Mosaic Methods: NorthWest,Center,LockRaster,ByAttribute,Nadir,Viewpoint,Seamline,None
SortField:
SortValue: null
Mosaic Operator: First
Default Compression Quality: 75
Default Resampling Method: Bilinear
Max Record Count: 1000
Max Image Height: 4100
Max Image Width: 15000
Max Download Image Count: 20
Max Mosaic Image Count: 20
Allow Raster Function: true
Allow Copy: null
Allow Analysis: null
Allow Compute TiePoints: false
Supports Statistics: true
Supports Advanced Queries: true
Use StandardizedQueries: false
Raster Type Infos:
Name: Raster Dataset
Description: Supports all ArcGIS Raster Datasets
Help:
Has Raster Attribute Table: false
Edit Fields Info: null
Ownership Based AccessControl For Rasters: null
Child Resources:
Info
Histograms
Key Properties
Legend
Raster Function Infos
Supported Operations:
Export Image
Query
Identify
Compute Histograms
Compute Statistics Histograms
Get Samples
Compute Class Statistics
Query Boundary
Compute Pixel Location
Compute Angles
Validate
Project