View In:
ArcGIS JavaScript
ArcGIS Online Map Viewer
ArcGIS Earth
ArcMap
View Footprint In:
ArcGIS Online Map Viewer
Service Description: Imagery
Name: IMAGERY_STATEWIDE/NG911_Imagery_2018_SID
Description: Imagery
Single Fused Map Cache: false
Extent:
XMin: -1.13693284248E7
YMin: 4421108.747217295
XMax: -1.0518931371205892E7
YMax: 4884750.0984999975
Spatial Reference: 102100
(3857)
Initial Extent:
XMin: -1.13693284248E7
YMin: 4421108.747217295
XMax: -1.0518931371205892E7
YMax: 4884750.0984999975
Spatial Reference: 102100
(3857)
Full Extent:
XMin: -1.13693284248E7
YMin: 4421108.747217295
XMax: -1.0518931371205892E7
YMax: 4884750.0984999975
Spatial Reference: 102100
(3857)
Pixel Size X: 0.3048006096012191
Pixel Size Y: 0.30480060960121935
Band Count: 5
Pixel Type: U8
RasterFunction Infos: {"rasterFunctionInfos": [{
"name": "None",
"description": "A No-Op Function.",
"help": ""
}]}
Mensuration Capabilities: Basic
Has Histograms: true
Has Colormap: false
Has Multi Dimensions : false
Rendering Rule:
Min Scale: 0
Max Scale: 0
Copyright Text:
Service Data Type: esriImageServiceDataTypeProcessed
Min Values: 0, 0, 0, 0, 255
Max Values: 217, 220, 218, 215, 255
Mean Values: 119.76387267491634, 111.92722554693997, 95.0511395521257, 121.738001318964, 255
Standard Deviation Values: 30.40939239659137, 27.136727690041326, 22.385954403647002, 29.3928435852722, 0
Object ID Field: OBJECTID
Fields:
-
OBJECTID
(
type: esriFieldTypeOID, alias: OBJECTID
)
-
Shape
(
type: esriFieldTypeGeometry, alias: Shape
)
-
Name
(
type: esriFieldTypeString, alias: Name, length: 200
)
-
Category
(
type: esriFieldTypeInteger, alias: Category
, Coded Values:
[0: Unknown]
, [1: Primary]
, [2: Overview]
, ...6 more...
)
Default Mosaic Method: Northwest
Allowed Mosaic Methods: NorthWest,Center,LockRaster,ByAttribute,Nadir,Viewpoint,Seamline,None
SortField:
SortValue: null
Mosaic Operator: First
Default Compression Quality: 75
Default Resampling Method: Bilinear
Max Record Count: 1000
Max Image Height: 4100
Max Image Width: 15000
Max Download Image Count: 20
Max Mosaic Image Count: 20
Allow Raster Function: true
Allow Copy: null
Allow Analysis: null
Allow Compute TiePoints: false
Supports Statistics: true
Supports Advanced Queries: true
Use StandardizedQueries: false
Raster Type Infos:
Name: Raster Dataset
Description: Supports all ArcGIS Raster Datasets
Help:
Has Raster Attribute Table: false
Edit Fields Info: null
Ownership Based AccessControl For Rasters: null
Child Resources:
Info
Histograms
Key Properties
Legend
Raster Function Infos
Supported Operations:
Export Image
Query
Identify
Measure
Compute Histograms
Compute Statistics Histograms
Get Samples
Compute Class Statistics
Query Boundary
Compute Pixel Location
Compute Angles
Validate
Project