View In:
ArcGIS JavaScript
ArcGIS Online Map Viewer
ArcGIS Earth
ArcMap
View Footprint In:
ArcGIS Online Map Viewer
Service Description: IMAGERY_STATEWIDE/FSA_NAIP_2023_Color
Name: IMAGERY_STATEWIDE/FSA_NAIP_2023_Color
Description:
Single Fused Map Cache: false
Extent:
XMin: -1.1364846132E7
YMin: 4427996.491700007
XMax: -1.0525225632000009E7
YMax: 4877779.891700001
Spatial Reference: 102100
(3857)
Initial Extent:
XMin: -1.1364846132E7
YMin: 4427996.491700007
XMax: -1.0525225632000009E7
YMax: 4877779.891700001
Spatial Reference: 102100
(3857)
Full Extent:
XMin: -1.1364846132E7
YMin: 4427996.491700007
XMax: -1.0525225632000009E7
YMax: 4877779.891700001
Spatial Reference: 102100
(3857)
Pixel Size X: 0.29999999999999666
Pixel Size Y: 0.29999999999999655
Band Count: 3
Pixel Type: U8
RasterFunction Infos: {"rasterFunctionInfos": [{
"name": "None",
"description": "A No-Op Function.",
"help": ""
}]}
Mensuration Capabilities: Basic
Has Histograms: true
Has Colormap: false
Has Multi Dimensions : false
Rendering Rule:
Min Scale: 0
Max Scale: 0
Copyright Text:
Service Data Type: esriImageServiceDataTypeProcessed
Min Values: 0.5847457627118644, 0.43430656934306566, 0.8061224489795917
Max Values: 254.41525423728814, 254.56569343065692, 254.1938775510204
Mean Values: 193.42843691148775, 201.62165450121657, 195.56349206349205
Standard Deviation Values: 39.84790260096749, 33.97074959453025, 30.994236483148082
Object ID Field: OBJECTID
Fields:
-
OBJECTID
(
type: esriFieldTypeOID, alias: OBJECTID
)
-
Shape
(
type: esriFieldTypeGeometry, alias: Shape
)
-
Name
(
type: esriFieldTypeString, alias: Name, length: 200
)
-
Category
(
type: esriFieldTypeInteger, alias: Category
,
Coded Values:
[0: Unknown]
,
[1: Primary]
,
[2: Overview]
, ...6 more...
)
-
Tag
(
type: esriFieldTypeString, alias: Tag, length: 100
)
-
GroupName
(
type: esriFieldTypeString, alias: GroupName, length: 100
)
-
ProductName
(
type: esriFieldTypeString, alias: ProductName, length: 100
)
Default Mosaic Method: Northwest
Allowed Mosaic Methods: NorthWest,Center,LockRaster,ByAttribute,Nadir,Viewpoint,Seamline,None
SortField:
SortValue: null
Mosaic Operator: First
Default Compression Quality: 75
Default Resampling Method: Bilinear
Max Record Count: 1000
Max Image Height: 4100
Max Image Width: 15000
Max Download Image Count: 20
Max Mosaic Image Count: 20
Allow Raster Function: true
Allow Copy: null
Allow Analysis: null
Allow Compute TiePoints: false
Supports Statistics: true
Supports Advanced Queries: true
Use StandardizedQueries: false
Raster Type Infos:
Name: Raster Dataset
Description: Supports all ArcGIS Raster Datasets
Help:
Has Raster Attribute Table: false
Edit Fields Info: null
Ownership Based AccessControl For Rasters: null
Child Resources:
Info
Histograms
Key Properties
Legend
Raster Function Infos
Supported Operations:
Export Image
Query
Identify
Measure
Compute Histograms
Compute Statistics Histograms
Get Samples
Compute Class Statistics
Query Boundary
Compute Pixel Location
Compute Angles
Validate
Project