View In:
ArcGIS JavaScript
ArcGIS Online Map Viewer
ArcGIS Earth
ArcMap
View Footprint In:
ArcGIS Online Map Viewer
Service Description: 2021 FSA NAIP Color image service
Name: IMAGERY_STATEWIDE/FSA_NAIP_2021_Color
Description: 2021 FSA NAIP Color image service
Single Fused Map Cache: false
Extent:
XMin: -1.13621123265E7
YMin: 4429923.7858000025
XMax: -1.05262325265E7
YMax: 4875533.585800002
Spatial Reference: 102100
(3857)
Initial Extent:
XMin: -1.13621123265E7
YMin: 4429923.7858000025
XMax: -1.05262325265E7
YMax: 4875533.585800002
Spatial Reference: 102100
(3857)
Full Extent:
XMin: -1.13621123265E7
YMin: 4429923.7858000025
XMax: -1.05262325265E7
YMax: 4875533.585800002
Spatial Reference: 102100
(3857)
Pixel Size X: 0.6000000000000005
Pixel Size Y: 0.5999999999999998
Band Count: 4
Pixel Type: U8
RasterFunction Infos: {"rasterFunctionInfos": [{
"name": "None",
"description": "",
"help": ""
}]}
Mensuration Capabilities:
Has Histograms: true
Has Colormap: false
Has Multi Dimensions : false
Rendering Rule:
Min Scale: 0
Max Scale: 0
Copyright Text: FSA, USDA,
Service Data Type: esriImageServiceDataTypeGeneric
Min Values: 0, 0, 0, 0
Max Values: 249, 249, 247, 244
Mean Values: 109.45142271291776, 113.91239973308937, 89.6902154864451, 154.03499801018472
Standard Deviation Values: 33.81219809000322, 26.798889188524697, 24.11905164971358, 26.876154240961586
Object ID Field: OBJECTID
Fields:
-
OBJECTID
(
type: esriFieldTypeOID, alias: OBJECTID
)
-
Shape
(
type: esriFieldTypeGeometry, alias: Shape
)
-
Name
(
type: esriFieldTypeString, alias: Name, length: 200
)
-
Category
(
type: esriFieldTypeInteger, alias: Category
,
Coded Values:
[0: Unknown]
,
[1: Primary]
,
[2: Overview]
, ...6 more...
)
Default Mosaic Method: Northwest
Allowed Mosaic Methods: NorthWest,Center,LockRaster,ByAttribute,Nadir,Viewpoint,Seamline,None
SortField:
SortValue: null
Mosaic Operator: First
Default Compression Quality: 75
Default Resampling Method: Bilinear
Max Record Count: 1000
Max Image Height: 4100
Max Image Width: 15000
Max Download Image Count: 20
Max Mosaic Image Count: 20
Allow Raster Function: true
Allow Copy: null
Allow Analysis: null
Allow Compute TiePoints: false
Supports Statistics: true
Supports Advanced Queries: true
Use StandardizedQueries: false
Raster Type Infos:
Name: Raster Dataset
Description: Supports all ArcGIS Raster Datasets
Help:
Has Raster Attribute Table: false
Edit Fields Info: null
Ownership Based AccessControl For Rasters: null
Child Resources:
Info
Histograms
Key Properties
Legend
Raster Function Infos
Supported Operations:
Export Image
Query
Identify
Compute Histograms
Compute Statistics Histograms
Get Samples
Compute Class Statistics
Query Boundary
Compute Pixel Location
Compute Angles
Validate
Project