View In:
ArcGIS JavaScript
ArcGIS Online Map Viewer
ArcGIS Earth
ArcMap
View Footprint In:
ArcGIS Online Map Viewer
Service Description: Elevation/Morris_Ft_cache_test
Name: Elevation/Morris_Ft_cache_test
Description:
Single Fused Map Cache: false
Extent:
XMin: -1.0752020558215864E7
YMin: 4670414.69980898
XMax: -1.0738887721297635E7
YMax: 4683601.281512706
Spatial Reference: 102100
(3857)
Initial Extent:
XMin: -1.0752020558215864E7
YMin: 4670414.69980898
XMax: -1.0738887721297635E7
YMax: 4683601.281512706
Spatial Reference: 102100
(3857)
Full Extent:
XMin: -1.0752020558215864E7
YMin: 4670414.69980898
XMax: -1.0738887721297635E7
YMax: 4683601.281512706
Spatial Reference: 102100
(3857)
Pixel Size X: 0.018661383852976703
Pixel Size Y: 0.01866138385297594
Band Count: 1
Pixel Type: F32
RasterFunction Infos: {"rasterFunctionInfos": [{
"name": "None",
"description": "",
"help": ""
}]}
Mensuration Capabilities: Basic
Has Histograms: false
Has Colormap: false
Has Multi Dimensions : false
Rendering Rule:
Min Scale: 0
Max Scale: 0
Copyright Text:
Service Data Type: esriImageServiceDataTypeGeneric
Min Values: 1201.8443603515625
Max Values: 1447.1275634765625
Mean Values: 1326.3458189003568
Standard Deviation Values: 52.964294098051695
Object ID Field:
Fields:
None
Default Mosaic Method: Center
Allowed Mosaic Methods:
SortField:
SortValue: null
Mosaic Operator: First
Default Compression Quality: 75
Default Resampling Method: Bilinear
Max Record Count: null
Max Image Height: 4100
Max Image Width: 15000
Max Download Image Count: null
Max Mosaic Image Count: null
Allow Raster Function: true
Allow Copy: null
Allow Analysis: null
Allow Compute TiePoints: false
Supports Statistics: false
Supports Advanced Queries: false
Use StandardizedQueries: false
Raster Type Infos:
Name: Raster Dataset
Description: Supports all ArcGIS Raster Datasets
Help:
Has Raster Attribute Table: false
Edit Fields Info: null
Ownership Based AccessControl For Rasters: null
Child Resources:
Info
Key Properties
Legend
Raster Function Infos
Supported Operations:
Export Image
Identify
Measure
Compute Histograms
Compute Statistics Histograms
Get Samples
Compute Class Statistics
Query Boundary
Compute Pixel Location
Compute Angles
Validate
Project