View In:
ArcGIS JavaScript
ArcGIS Online Map Viewer
ArcGIS Earth
ArcMap
View Footprint In:
ArcGIS Online Map Viewer
Service Description: IMAGERY_LOCAL/Saline_County_2023
Name: IMAGERY_LOCAL/Saline_County_2023
Description:
Single Fused Map Cache: false
Extent:
XMin: -1.09030340108E7
YMin: 4665026.977596391
XMax: -1.083891912637023E7
YMax: 4717028.780999998
Spatial Reference: 102100
(3857)
Initial Extent:
XMin: -1.09030340108E7
YMin: 4665026.977596391
XMax: -1.083891912637023E7
YMax: 4717028.780999998
Spatial Reference: 102100
(3857)
Full Extent:
XMin: -1.09030340108E7
YMin: 4665026.977596391
XMax: -1.083891912637023E7
YMax: 4717028.780999998
Spatial Reference: 102100
(3857)
Pixel Size X: 0.228600457200917
Pixel Size Y: 0.22860045720091365
Band Count: 3
Pixel Type: U8
RasterFunction Infos: {"rasterFunctionInfos": [{
"name": "None",
"description": "A No-Op Function.",
"help": ""
}]}
Mensuration Capabilities: Basic
Has Histograms: true
Has Colormap: false
Has Multi Dimensions : false
Rendering Rule:
Min Scale: 0
Max Scale: 0
Copyright Text:
Service Data Type: esriImageServiceDataTypeProcessed
Min Values: 0.13681592039800994, 0.19565217391304346, 0.427536231884058
Max Values: 254.86318407960198, 254.80434782608694, 254.57246376811594
Mean Values: 195.02406465839317, 184.43709189361394, 169.95686680469285
Standard Deviation Values: 14.889457590055853, 14.825405590633986, 25.932444189526922
Object ID Field: OBJECTID
Fields:
-
OBJECTID
(
type: esriFieldTypeOID, alias: OBJECTID
)
-
Shape
(
type: esriFieldTypeGeometry, alias: Shape
)
-
Name
(
type: esriFieldTypeString, alias: Name, length: 200
)
-
Category
(
type: esriFieldTypeInteger, alias: Category
, Coded Values:
[0: Unknown]
, [1: Primary]
, [2: Overview]
, ...6 more...
)
-
Tag
(
type: esriFieldTypeString, alias: Tag, length: 100
)
-
GroupName
(
type: esriFieldTypeString, alias: GroupName, length: 100
)
Default Mosaic Method: Northwest
Allowed Mosaic Methods: NorthWest,Center,LockRaster,ByAttribute,Nadir,Viewpoint,Seamline,None
SortField:
SortValue: null
Mosaic Operator: First
Default Compression Quality: 75
Default Resampling Method: Bilinear
Max Record Count: 1000
Max Image Height: 4100
Max Image Width: 15000
Max Download Image Count: 20
Max Mosaic Image Count: 20
Allow Raster Function: true
Allow Copy: null
Allow Analysis: null
Allow Compute TiePoints: false
Supports Statistics: true
Supports Advanced Queries: true
Use StandardizedQueries: true
Raster Type Infos:
Name: Raster Dataset
Description: Supports all ArcGIS Raster Datasets
Help:
Has Raster Attribute Table: false
Edit Fields Info: null
Ownership Based AccessControl For Rasters: null
Child Resources:
Info
Histograms
Key Properties
Legend
Raster Function Infos
Supported Operations:
Export Image
Query
Identify
Measure
Compute Histograms
Compute Statistics Histograms
Get Samples
Compute Class Statistics
Query Boundary
Compute Pixel Location
Compute Angles
Validate
Project