View In:
ArcGIS JavaScript
ArcGIS Online Map Viewer
ArcGIS Earth
ArcMap
View Footprint In:
ArcGIS Online Map Viewer
Service Description: IMAGERY_STATEWIDE/Kansas_HRO_2014_Color
Name: IMAGERY_STATEWIDE/Kansas_HRO_2014_Color
Description:
Single Fused Map Cache: false
Extent:
XMin: -1.13694531595E7
YMin: 4421048.799447269
XMax: -1.0518871396736473E7
YMax: 4884875.1647
Spatial Reference: 102100
(3857)
Initial Extent:
XMin: -1.13694531595E7
YMin: 4421048.799447269
XMax: -1.0518871396736473E7
YMax: 4884875.1647
Spatial Reference: 102100
(3857)
Full Extent:
XMin: -1.13694531595E7
YMin: 4421048.799447269
XMax: -1.0518871396736473E7
YMax: 4884875.1647
Spatial Reference: 102100
(3857)
Time Info:
Start Time Field: Year
End Time Field: null
Time Extent:
[2014/01/01 00:00:00 UTC, 2014/01/01 00:00:00 UTC]
Time Reference:
N/A
Pixel Size X: 0.30480060960121946
Pixel Size Y: 0.30480060960121913
Band Count: 3
Pixel Type: U8
RasterFunction Infos: {"rasterFunctionInfos": [{
"name": "None",
"description": "A No-Op Function.",
"help": ""
}]}
Mensuration Capabilities:
Has Histograms: true
Has Colormap: false
Has Multi Dimensions : false
Rendering Rule:
Min Scale: 0
Max Scale: 0
Copyright Text:
Service Data Type: esriImageServiceDataTypeRGB
Min Values: 0, 0, 0
Max Values: 255, 255, 255
Mean Values: 125.94572847343095, 118.81161052523805, 90.15282481826559
Standard Deviation Values: 38.0565585537028, 34.710531667772194, 27.663235570757
Object ID Field: OBJECTID
Fields:
-
OBJECTID
(
type: esriFieldTypeOID, alias: OBJECTID
)
-
Shape
(
type: esriFieldTypeGeometry, alias: Shape
)
-
Name
(
type: esriFieldTypeString, alias: Name, length: 200
)
-
Category
(
type: esriFieldTypeInteger, alias: Category
,
Coded Values:
[0: Unknown]
,
[1: Primary]
,
[2: Overview]
, ...6 more...
)
-
YEAR
(
type: esriFieldTypeString, alias: YEAR, length: 50
)
Default Mosaic Method: Northwest
Allowed Mosaic Methods: NorthWest,Center,LockRaster,ByAttribute,Nadir,Viewpoint,Seamline,None
SortField:
SortValue: null
Mosaic Operator: First
Default Compression Quality: 75
Default Resampling Method: Bilinear
Max Record Count: 1000
Max Image Height: 4100
Max Image Width: 15000
Max Download Image Count: 20
Max Mosaic Image Count: 20
Allow Raster Function: true
Allow Copy: null
Allow Analysis: null
Allow Compute TiePoints: false
Supports Statistics: true
Supports Advanced Queries: true
Use StandardizedQueries: false
Raster Type Infos:
Name: Raster Dataset
Description: Supports all ArcGIS Raster Datasets
Help:
Has Raster Attribute Table: false
Edit Fields Info: null
Ownership Based AccessControl For Rasters: null
Child Resources:
Info
Histograms
Key Properties
Legend
Raster Function Infos
Supported Operations:
Export Image
Query
Identify
Measure
Compute Histograms
Compute Statistics Histograms
Get Samples
Compute Class Statistics
Query Boundary
Compute Pixel Location
Compute Angles
Validate
Project