View In:
ArcGIS JavaScript
ArcGIS Online Map Viewer
ArcGIS Earth
ArcMap
View Footprint In:
ArcGIS Online Map Viewer
Service Description: IMAGERY_STATEWIDE/FSA_NAIP_2019_Color
Name: IMAGERY_STATEWIDE/FSA_NAIP_2019_Color
Description:
Single Fused Map Cache: false
Extent:
XMin: -1.13621949877E7
YMin: 4429861.436300024
XMax: -1.0526045787700042E7
YMax: 4875742.436300002
Spatial Reference: 102100
(3857)
Initial Extent:
XMin: -1.13621949877E7
YMin: 4429861.436300024
XMax: -1.0526045787700042E7
YMax: 4875742.436300002
Spatial Reference: 102100
(3857)
Full Extent:
XMin: -1.13621949877E7
YMin: 4429861.436300024
XMax: -1.0526045787700042E7
YMax: 4875742.436300002
Spatial Reference: 102100
(3857)
Pixel Size X: 0.5999999999999701
Pixel Size Y: 0.5999999999999699
Band Count: 4
Pixel Type: U8
RasterFunction Infos: {"rasterFunctionInfos": [{
"name": "None",
"description": "",
"help": ""
}]}
Mensuration Capabilities: None
Has Histograms: true
Has Colormap: false
Has Multi Dimensions : false
Rendering Rule:
Min Scale: 0
Max Scale: 0
Copyright Text:
Service Data Type: esriImageServiceDataTypeGeneric
Min Values: 0, 0, 0, 0
Max Values: 255, 255, 255, 255
Mean Values: 120.35145480484285, 134.01810928451178, 103.2272376916698, 137.0138935470309
Standard Deviation Values: 28.67026096579288, 23.306457882951978, 21.015648947218917, 33.78999741383032
Object ID Field: OBJECTID
Fields:
-
OBJECTID
(
type: esriFieldTypeOID, alias: OBJECTID
)
-
Shape
(
type: esriFieldTypeGeometry, alias: Shape
)
-
Name
(
type: esriFieldTypeString, alias: Name, length: 200
)
-
Category
(
type: esriFieldTypeInteger, alias: Category
,
Coded Values:
[0: Unknown]
,
[1: Primary]
,
[2: Overview]
, ...6 more...
)
Default Mosaic Method: Northwest
Allowed Mosaic Methods: NorthWest,Center,LockRaster,ByAttribute,Nadir,Viewpoint,Seamline,None
SortField:
SortValue: null
Mosaic Operator: First
Default Compression Quality: 75
Default Resampling Method: Bilinear
Max Record Count: 1000
Max Image Height: 4100
Max Image Width: 15000
Max Download Image Count: 20
Max Mosaic Image Count: 20
Allow Raster Function: true
Allow Copy: null
Allow Analysis: null
Allow Compute TiePoints: false
Supports Statistics: true
Supports Advanced Queries: true
Use StandardizedQueries: false
Raster Type Infos:
Name: Raster Dataset
Description: Supports all ArcGIS Raster Datasets
Help:
Has Raster Attribute Table: false
Edit Fields Info: null
Ownership Based AccessControl For Rasters: null
Child Resources:
Info
Histograms
Key Properties
Legend
Raster Function Infos
Supported Operations:
Export Image
Query
Identify
Compute Histograms
Compute Statistics Histograms
Get Samples
Compute Class Statistics
Query Boundary
Compute Pixel Location
Compute Angles
Validate
Project