{
 "currentVersion": 10.91,
 "serviceDescription": "IMAGERY_HISTORICAL_PRE_1990/Kansas_1970_to_1974",
 "name": "IMAGERY_HISTORICAL_PRE_1990/Kansas_1970_to_1974",
 "description": "",
 "extent": {
  "xmin": -1.12427394926E7,
  "ymin": 4436227.843160007,
  "xmax": -1.0530361228800017E7,
  "ymax": 4804762.952499998,
  "spatialReference": {
   "wkid": 102100,
   "latestWkid": 3857
  }
 },
 "initialExtent": {
  "xmin": -1.12427394926E7,
  "ymin": 4436227.843160007,
  "xmax": -1.0530361228800017E7,
  "ymax": 4804762.952499998,
  "spatialReference": {
   "wkid": 102100,
   "latestWkid": 3857
  }
 },
 "fullExtent": {
  "xmin": -1.12427394926E7,
  "ymin": 4436227.843160007,
  "xmax": -1.0530361228800017E7,
  "ymax": 4804762.952499998,
  "spatialReference": {
   "wkid": 102100,
   "latestWkid": 3857
  }
 },
 "pixelSizeX": 0.1762099999999956,
 "pixelSizeY": 0.17620999999999554,
 "bandCount": 1,
 "pixelType": "U8",
 "minPixelSize": 0,
 "maxPixelSize": 0,
 "copyrightText": "",
 "serviceDataType": "esriImageServiceDataTypeGeneric",
 "minValues": [
  0
 ],
 "maxValues": [
  255
 ],
 "meanValues": [
  119.81499106652566
 ],
 "stdvValues": [
  36.87740561854743
 ],
 "objectIdField": "OBJECTID",
 "fields": [
  {
   "name": "OBJECTID",
   "type": "esriFieldTypeOID",
   "alias": "OBJECTID",
   "domain": null
  },
  {
   "name": "Shape",
   "type": "esriFieldTypeGeometry",
   "alias": "Shape",
   "domain": null
  },
  {
   "name": "Category",
   "type": "esriFieldTypeInteger",
   "alias": "Category",
   "domain": {
    "type": "codedValue",
    "name": "MosaicCatalogItemCategoryDomain",
    "description": "Catalog item categories.",
    "codedValues": [
     {
      "name": "Unknown",
      "code": 0
     },
     {
      "name": "Primary",
      "code": 1
     },
     {
      "name": "Overview",
      "code": 2
     },
     {
      "name": "Unprocessed Overview",
      "code": 3
     },
     {
      "name": "Partial Overview",
      "code": 4
     },
     {
      "name": "Inactive",
      "code": 5
     },
     {
      "name": "Uploaded",
      "code": 253
     },
     {
      "name": "Incomplete",
      "code": 254
     },
     {
      "name": "Custom",
      "code": 255
     }
    ],
    "mergePolicy": "esriMPTDefaultValue",
    "splitPolicy": "esriSPTDefaultValue"
   }
  },
  {
   "name": "YEAR",
   "type": "esriFieldTypeString",
   "alias": "YEAR",
   "domain": null,
   "length": 50
  },
  {
   "name": "CITY",
   "type": "esriFieldTypeString",
   "alias": "CITY",
   "domain": null,
   "length": 50
  },
  {
   "name": "COUNTY",
   "type": "esriFieldTypeString",
   "alias": "COUNTY",
   "domain": null,
   "length": 50
  },
  {
   "name": "SOURCE",
   "type": "esriFieldTypeString",
   "alias": "SOURCE",
   "domain": null,
   "length": 50
  },
  {
   "name": "LEAF",
   "type": "esriFieldTypeString",
   "alias": "LEAF",
   "domain": null,
   "length": 50
  },
  {
   "name": "IMAGE",
   "type": "esriFieldTypeString",
   "alias": "IMAGE",
   "domain": null,
   "length": 50
  },
  {
   "name": "FIPSSTCO",
   "type": "esriFieldTypeString",
   "alias": "FIPSSTCO",
   "domain": null,
   "length": 50
  }
 ],
 "capabilities": "Image,Metadata,Catalog,Mensuration",
 "defaultMosaicMethod": "Northwest",
 "allowedMosaicMethods": "NorthWest,Center,LockRaster,ByAttribute,Nadir,Viewpoint,Seamline,None",
 "sortField": "",
 "sortValue": null,
 "sortAscending": true,
 "mosaicOperator": "First",
 "maxDownloadSizeLimit": 2048,
 "defaultCompressionQuality": 75,
 "defaultResamplingMethod": "Bilinear",
 "maxImageHeight": 4100,
 "maxImageWidth": 15000,
 "maxRecordCount": 1000,
 "maxDownloadImageCount": 20,
 "maxMosaicImageCount": 20,
 "allowRasterFunction": true,
 "rasterFunctionInfos": [
  {
   "name": "None",
   "description": "",
   "help": ""
  }
 ],
 "rasterTypeInfos": [
  {
   "name": "Raster Dataset",
   "description": "Supports all ArcGIS Raster Datasets",
   "help": ""
  }
 ],
 "mensurationCapabilities": "Basic",
 "hasHistograms": true,
 "hasColormap": false,
 "hasRasterAttributeTable": false,
 "minScale": 0,
 "maxScale": 0,
 "exportTilesAllowed": false,
 "hasMultidimensions": false,
 "supportsStatistics": true,
 "supportsAdvancedQueries": true,
 "editFieldsInfo": null,
 "ownershipBasedAccessControlForRasters": null,
 "allowComputeTiePoints": false,
 "useStandardizedQueries": true,
 "advancedQueryCapabilities": {
  "useStandardizedQueries": true,
  "supportsStatistics": true,
  "supportsOrderBy": true,
  "supportsDistinct": true,
  "supportsPagination": true
 },
 "spatialReference": {
  "wkid": 102100,
  "latestWkid": 3857
 }
}
